BEGIN:VCALENDAR
VERSION:2.0
PRODID:-//wp-events-plugin.com//7.2.2.1//EN
TZID:Europe/Zurich
X-WR-TIMEZONE:Europe/Zurich
BEGIN:VEVENT
UID:84@eso-stroke.org
DTSTART;TZID=Europe/Zurich:20211214T130000
DTEND;TZID=Europe/Zurich:20211214T140000
DTSTAMP:20211213T085333Z
URL:https://eso-stroke.org/events/eso-trials-alliance-webinar-update-on-tr
 ial-activity-in-esota/
SUMMARY:ESO Trials Alliance Webinar: Update on trial activity in ESOTA
DESCRIPTION:\n\nProgramme\n• CONVINCE – update and lessons learned from
  an international stroke prevention trial\nPeter Kelly (Ireland)\n\n• TE
 NSION - challenges of an international thrombectomy trial\nGötz Thomalla 
 (Germany)\n\n• Tranexamic acid for ICH - The TICH-3 study - coming soon 
 to a country near you?\nNikola Sprigg (UK)
ATTACH;FMTTYPE=image/jpeg:https://eso-stroke.org/wp-content/uploads/ESOTA-
 logo-for-blog.png
CATEGORIES:ESO Event
END:VEVENT
BEGIN:VTIMEZONE
TZID:Europe/Zurich
X-LIC-LOCATION:Europe/Zurich
BEGIN:STANDARD
DTSTART:20211031T020000
TZOFFSETFROM:+0200
TZOFFSETTO:+0100
TZNAME:CET
END:STANDARD
END:VTIMEZONE
END:VCALENDAR