BEGIN:VCALENDAR
VERSION:2.0
PRODID:-//wp-events-plugin.com//7.2.2.1//EN
TZID:Europe/Zurich
X-WR-TIMEZONE:Europe/Zurich
BEGIN:VEVENT
UID:87@eso-stroke.org
DTSTART;TZID=Europe/Zurich;VALUE=DATE:20220905
DTEND;TZID=Europe/Zurich;VALUE=DATE:20220910
DTSTAMP:20211220T105656Z
URL:https://eso-stroke.org/events/eso-stroke-summer-school-birmingham-engl
 and/
SUMMARY:ESO Stroke Summer School - Birmingham\, England
DESCRIPTION:\n\n\nThe 25th ESO Stroke Summer School will take place in Birm
 ingham\, England from 5-9 September 2022.\n\n\n\n\n\n\nInformation about t
 he application process will be available soon on the ESO website\, monthly
  newsletter\, and social media.\n\n\n
ATTACH;FMTTYPE=image/jpeg:https://eso-stroke.org/wp-content/uploads/ESO-Su
 mmerSchool-e1626078154568.png
CATEGORIES:ESO Event
END:VEVENT
BEGIN:VTIMEZONE
TZID:Europe/Zurich
X-LIC-LOCATION:Europe/Zurich
BEGIN:DAYLIGHT
DTSTART:20220327T030000
TZOFFSETFROM:+0100
TZOFFSETTO:+0200
TZNAME:CEST
END:DAYLIGHT
END:VTIMEZONE
END:VCALENDAR