BEGIN:VCALENDAR
VERSION:2.0
PRODID:-//wp-events-plugin.com//7.2.2.1//EN
TZID:Europe/Zurich
X-WR-TIMEZONE:Europe/Zurich
BEGIN:VEVENT
UID:70@eso-stroke.org
DTSTART;TZID=Europe/Zurich:20211203T130000
DTEND;TZID=Europe/Zurich:20211204T153000
DTSTAMP:20211101T082847Z
URL:https://eso-stroke.org/events/eso-gains-wso/
SUMMARY:ESO-GAINS-WSO Early Career Investigators Virtual Workshop
DESCRIPTION:Two Day Virtual Workshop - Friday and Saturday\, December 3 and
  4\, 2021 \n\n1300 – 1530 (CET)\n\n0700 - 0930 (EST)\n\n0900 – 1130 (B
 RT)\n\n1730 -2000 (IST)\n\n2000 – 2230 (CST)\n\n(European Stroke Organis
 ation /Global Alliance of Independent Networks focused on Stroke trials (G
 AINS) / World Stroke Organization Early Career Investigators Workshop 2021
 )\n\nWe invite you to the third Early Career Investigators Training Works
 hop\, a fully virtual event for emerging investigators from across the wor
 ld.\n\nParticipants in these dynamic sessions will have the opportunity t
 o learn about regional and global clinical research networks and hear from
  experienced clinician researchers from a range of disciplines who'll shar
 e their pathways to success.\n\nInteractive live sessions provide opportu
 nities for participants to get feedback on their research ideas and to wor
 kshop common challenges faced in building research careers with experience
 d mentors from a range of disciplines. You'll also hear from two mentor/me
 ntee pairs about their experiences and learnings from developing effective
  mentor\, mentee relationships.\n\nParticipants can share experiences and 
 create and extend their research networks (see website for full program de
 tails).\n\nAre you Eligible? \n\nWe welcome applications from early career
  researchers (up to 10 years of academic career) from all disciplines.\n\n
 Is there a cost and how do I register?\n\nThe event is FREE but registrati
 on is required.\nView the event flyer.\nRegister here.
CATEGORIES:ESO Event
END:VEVENT
BEGIN:VTIMEZONE
TZID:Europe/Zurich
X-LIC-LOCATION:Europe/Zurich
BEGIN:STANDARD
DTSTART:20211031T020000
TZOFFSETFROM:+0200
TZOFFSETTO:+0100
TZNAME:CET
END:STANDARD
END:VTIMEZONE
END:VCALENDAR