BEGIN:VCALENDAR
VERSION:2.0
PRODID:-//wp-events-plugin.com//7.2.2.1//EN
TZID:Europe/Zurich
X-WR-TIMEZONE:Europe/Zurich
BEGIN:VEVENT
UID:35@eso-stroke.org
DTSTART;TZID=Europe/Zurich:20201204T130000
DTEND;TZID=Europe/Zurich:20201205T153000
DTSTAMP:20201117T083947Z
URL:https://eso-stroke.org/events/eso-gains-wso-early-career-investigators
 -virtual-workshop-2020/
SUMMARY:ESO-GAINS-WSO Early Career Investigators Virtual Workshop 2020
DESCRIPTION:We invite you to the second Early Career Investigators Training
  Workshop\, a fully virtual event for emerging investigators from across t
 he world. Participants to these dynamic sessions will have opportunity to 
 learn about regional and global clinical research networks and hear from e
 xperienced clinician researchers about their pathways to success. Interact
 ive sessions will give opportunities for participants to get feedback on t
 heir research ideas and to workshop common challenges faced in building re
 search careers with experienced mentors from a range of disciplines. Parti
 cipants can share experiences and create and extend their research network
 s (see website for full program details).\n\nAre you Eligible? \n\nWe welc
 ome applications from early career researchers (up to 10 years of academic
  career) from all disciplines.\n\nIs there a cost and how do I register?\n
 \nThe event is FREE but registration is required. Please register here.\n\
 n&nbsp\;\n\nSubmitting your research idea\n\nTo get the most out of this d
 ay\, participants are encouraged to consider submitting an expression of i
 nterest to present their research idea in a small session format. The topi
 c areas include hyperacute ischaemic stroke\, ICH\, secondary prevention\,
  stroke recovery and nursing\, imaging\, omics\, epidemiology and cohorts.
 \n\nParticipant numbers are restricted.\n\nProgramme\n\nRegistration
CATEGORIES:ESO Event
END:VEVENT
BEGIN:VTIMEZONE
TZID:Europe/Zurich
X-LIC-LOCATION:Europe/Zurich
BEGIN:STANDARD
DTSTART:20201025T020000
TZOFFSETFROM:+0200
TZOFFSETTO:+0100
TZNAME:CET
END:STANDARD
END:VTIMEZONE
END:VCALENDAR