BEGIN:VCALENDAR
VERSION:2.0
PRODID:-//wp-events-plugin.com//7.2.2.1//EN
TZID:Europe/Zurich
X-WR-TIMEZONE:Europe/Zurich
BEGIN:VEVENT
UID:160@eso-stroke.org
DTSTART;TZID=Europe/Zurich;VALUE=DATE:20240412
DTEND;TZID=Europe/Zurich;VALUE=DATE:20240416
DTSTAMP:20231106T074718Z
URL:https://eso-stroke.org/events/eso-focused-workshop-2024/
SUMMARY:ESO Focused Workshop 2024
DESCRIPTION:The aim of this workshop is to familiarise residents and young 
 neurologists with the management of patients with rare causes of stroke. I
 t will provide up-to-date guidance\, through lectures and case reports con
 cisely summarised by experts in the field\, describing the diagnosis and t
 reatment of rare causes of stroke\, such as non-inflammatory blood vessel 
 disorders (CADASIL/CARASIL\, Fabry’s disease\, Fibromuscular dysplasia\,
  Moyamoya disease\, MELAS\, Reversible cerebral vasoconstriction syndrome\
 , Sneddon’s syndrome\, Vasospasam after subarachoidal haemorrhage)\, inf
 lammatory blood vessel disorders (Isolated angiitis of the central nervous
  system\, Susac syndrome)\, hematological disorders (coagulation disorders
 \, antiphospholipid antibody syndrome\, Sickle cell disease) and miscellan
 eous disorders (Migrenous stroke\, Bone diseases and stroke\, Cerebral ven
 ous sinus thrombosis).\n\nPlease find here more information.
CATEGORIES:ESO Event
END:VEVENT
BEGIN:VTIMEZONE
TZID:Europe/Zurich
X-LIC-LOCATION:Europe/Zurich
BEGIN:DAYLIGHT
DTSTART:20240331T030000
TZOFFSETFROM:+0100
TZOFFSETTO:+0200
TZNAME:CEST
END:DAYLIGHT
END:VTIMEZONE
END:VCALENDAR