BEGIN:VCALENDAR
VERSION:2.0
PRODID:-//wp-events-plugin.com//7.2.2.1//EN
TZID:Europe/Zurich
X-WR-TIMEZONE:Europe/Zurich
BEGIN:VEVENT
UID:27@eso-stroke.org
DTSTART;TZID=Europe/Zurich;VALUE=DATE:20210202
DTEND;TZID=Europe/Zurich;VALUE=DATE:20210205
DTSTAMP:20201008T071914Z
URL:https://eso-stroke.org/events/eso-esmint-esnr-stroke-winter-school/
SUMMARY:ESO ESMINT ESNR Stroke Winter School
DESCRIPTION:Further information is avaliable on the Stroke Winter School We
 bsite and the 2021 Flyer.
CATEGORIES:ESO Event
END:VEVENT
BEGIN:VTIMEZONE
TZID:Europe/Zurich
X-LIC-LOCATION:Europe/Zurich
BEGIN:STANDARD
DTSTART:20201025T020000
TZOFFSETFROM:+0200
TZOFFSETTO:+0100
TZNAME:CET
END:STANDARD
END:VTIMEZONE
END:VCALENDAR