BEGIN:VCALENDAR
VERSION:2.0
PRODID:-//wp-events-plugin.com//7.2.2.1//EN
TZID:Europe/Zurich
X-WR-TIMEZONE:Europe/Zurich
BEGIN:VEVENT
UID:65@eso-stroke.org
DTSTART;TZID=Europe/Zurich;VALUE=DATE:20220419
DTEND;TZID=Europe/Zurich;VALUE=DATE:20220423
DTSTAMP:20211220T090739Z
URL:https://eso-stroke.org/events/eso-esmint-esnr-stroke-winter-school-2/
SUMMARY:ESO - ESMINT - ESNR Stroke Winter School
DESCRIPTION:Management of patients with acute ischaemic stroke is a major c
 hallenge for stroke physicians: due to the narrow time window for thrombol
 ysis therapeutic decisions have to be taken instantaneously considering a 
 broad range of clinical and radiological information. Given the rapid deve
 lopments of diagnostic and therapeutic tools within the last few years\, c
 omplexity of stroke treatment has increased and specialist involvement in 
 stroke management is crucial. Therefore\, both stroke physicians and neuro
 radiologists have to be encouraged to work closely together in order to im
 prove future management of patients with acute stroke.\n\nThe aim of the p
 roposed ESO-ESMINT-ESNR teaching course is therefore to unite stroke physi
 cians and neuroradiologists in order to enhance interdisciplinary manageme
 nt of stroke patients. Previous workshops and courses focussed on teaching
  of either stroke physicians or neuroradiologists. However interdisciplina
 ry courses for both specialists are needed.
ATTACH;FMTTYPE=image/jpeg:https://eso-stroke.org/wp-content/uploads/Winter
 -School-logo-for-blog.png
CATEGORIES:ESO Event
END:VEVENT
BEGIN:VTIMEZONE
TZID:Europe/Zurich
X-LIC-LOCATION:Europe/Zurich
BEGIN:DAYLIGHT
DTSTART:20220327T030000
TZOFFSETFROM:+0100
TZOFFSETTO:+0200
TZNAME:CEST
END:DAYLIGHT
END:VTIMEZONE
END:VCALENDAR