BEGIN:VCALENDAR
VERSION:2.0
PRODID:-//wp-events-plugin.com//7.2.2.1//EN
TZID:Europe/Zurich
X-WR-TIMEZONE:Europe/Zurich
BEGIN:VEVENT
UID:91@eso-stroke.org
DTSTART;TZID=Europe/Zurich:20220209T183000
DTEND;TZID=Europe/Zurich:20220209T193000
DTSTAMP:20220104T093935Z
URL:https://eso-stroke.org/events/eso-educational-webinar-episode-5-young-
 stroke/
SUMMARY:ESO Educational Webinar - Episode 4 Young Stroke
DESCRIPTION:Save the date! ESO members are invited to attend this Education
 al Webinar focused on case studies and discussion. \n\nPresenters: Prof. J
 ukka Putaala and Dr. Nicolas Martinez-Majander \n\nSave the date and check
  back in January for more information and registration details. https://es
 o-stroke.org/educational-webinars/
ATTACH;FMTTYPE=image/jpeg:https://eso-stroke.org/wp-content/uploads/Educat
 ional-webinars-logo-for-events-calendar.png
CATEGORIES:ESO Event
END:VEVENT
BEGIN:VTIMEZONE
TZID:Europe/Zurich
X-LIC-LOCATION:Europe/Zurich
BEGIN:STANDARD
DTSTART:20211031T020000
TZOFFSETFROM:+0200
TZOFFSETTO:+0100
TZNAME:CET
END:STANDARD
END:VTIMEZONE
END:VCALENDAR