BEGIN:VCALENDAR
VERSION:2.0
PRODID:-//wp-events-plugin.com//7.2.2.1//EN
TZID:Europe/Zurich
X-WR-TIMEZONE:Europe/Zurich
BEGIN:VEVENT
UID:90@eso-stroke.org
DTSTART;TZID=Europe/Zurich:20220330T183000
DTEND;TZID=Europe/Zurich:20220330T193000
DTSTAMP:20220224T085824Z
URL:https://eso-stroke.org/events/eso-educational-webinar-episode-4-ich/
SUMMARY:ESO Educational Webinar - Episode 5 ICH
DESCRIPTION:There is no such a thing as primary ICH\n&nbsp\;\n\nIntracerebr
 al haemorrhages (ICH) gathers an heterogeneous group of underlying vessel 
 diseases.\n\nThe cause of ICH is important to identify because it will inf
 luence the outcome and the risk and nature of future vacsular or cognitive
  events.\n\nDr Barbara Casolla will present cases of ICH and sollicit part
 icipants input to choose the etiological work-up.\n\nProf. Charlotte Cordo
 nnier will provide an overview of the causes of ICH and how to build the e
 tiological work-up\n\nAn interactive discussion will be moderated.\n\nPres
 enters: Prof. Charlotte Cordonnier\, France\, Dr. Barbara Casolla\, France
 \n\nESO members are invited to attend this Educational Webinar focused on 
 case studies and discussion.\n\nRegister now.\n\nNot yet an ESO member? Jo
 in today to participate in this webinar and take advantage of ESO`s full e
 ducational offering.\n\n&nbsp\;\n\n
ATTACH;FMTTYPE=image/jpeg:https://eso-stroke.org/wp-content/uploads/Educat
 ional-webinars-logo-for-events-calendar.png
CATEGORIES:ESO Event
END:VEVENT
BEGIN:VTIMEZONE
TZID:Europe/Zurich
X-LIC-LOCATION:Europe/Zurich
BEGIN:DAYLIGHT
DTSTART:20220327T030000
TZOFFSETFROM:+0100
TZOFFSETTO:+0200
TZNAME:CEST
END:DAYLIGHT
END:VTIMEZONE
END:VCALENDAR