BEGIN:VCALENDAR
VERSION:2.0
PRODID:-//wp-events-plugin.com//7.2.2.1//EN
TZID:Europe/Zurich
X-WR-TIMEZONE:Europe/Zurich
BEGIN:VEVENT
UID:180@eso-stroke.org
DTSTART;TZID=Europe/Zurich:20240620T063000
DTEND;TZID=Europe/Zurich:20240620T073000
DTSTAMP:20240605T064057Z
URL:https://eso-stroke.org/events/eso-educational-webinar-16-stroke-and-pr
 egnancy/
SUMMARY:ESO Educational webinar #16 – Stroke and Pregnancy
DESCRIPTION:Find out more about ESO webinars on this page: https://eso-stro
 ke.org/educational-webinars/
CATEGORIES:ESO Event
END:VEVENT
BEGIN:VTIMEZONE
TZID:Europe/Zurich
X-LIC-LOCATION:Europe/Zurich
BEGIN:DAYLIGHT
DTSTART:20240331T030000
TZOFFSETFROM:+0100
TZOFFSETTO:+0200
TZNAME:CEST
END:DAYLIGHT
END:VTIMEZONE
END:VCALENDAR