BEGIN:VCALENDAR
VERSION:2.0
PRODID:-//wp-events-plugin.com//7.2.2.1//EN
TZID:Europe/Zurich
X-WR-TIMEZONE:Europe/Zurich
BEGIN:VEVENT
UID:66@eso-stroke.org
DTSTART;TZID=Europe/Zurich:20210922T183000
DTEND;TZID=Europe/Zurich:20210922T194500
DTSTAMP:20210902T082100Z
URL:https://eso-stroke.org/events/eso-educational-webinar-1-secondary-prev
 ention/
SUMMARY:ESO Educational Webinar 1 - Secondary Prevention
DESCRIPTION:The ESO Educational Webinar series aims support the mission of 
 ESO by supporting and promoting the education of young stroke physicians a
 cross Europe. This educational series seeks to provide a balance between a
 n interactive webinar and didactic teaching. The first webinar in this ser
 ies of six will be on the topic of Medical Management of Large Artery Dise
 ase.\nSecondary Prevention -Medical Management of Large Artery Disease\nPr
 ogramme (plan 60 to 75 minutes)\n• Introduction by moderators - Alastair
  Webb (United Kingdom) and Yvonne Zuurbier (Netherlands)\n\n• Short case
  presentation with interactive discussion - Linxin Li (United Kingdom)\n\n
 • Didactic presentation - Peter Kelly (Ireland)\n\n• Moderated interac
 tive discussion\n\n\n\nRegister now to secure your spot.
CATEGORIES:ESO Event
END:VEVENT
BEGIN:VTIMEZONE
TZID:Europe/Zurich
X-LIC-LOCATION:Europe/Zurich
BEGIN:DAYLIGHT
DTSTART:20210328T030000
TZOFFSETFROM:+0100
TZOFFSETTO:+0200
TZNAME:CEST
END:DAYLIGHT
END:VTIMEZONE
END:VCALENDAR