BEGIN:VCALENDAR
VERSION:2.0
PRODID:-//wp-events-plugin.com//7.2.2.1//EN
TZID:Europe/Zurich
X-WR-TIMEZONE:Europe/Zurich
BEGIN:VEVENT
UID:284@eso-stroke.org
DTSTART;TZID=Europe/Zurich:20260428T160000
DTEND;TZID=Europe/Zurich:20260428T160000
DTSTAMP:20260320T090255Z
URL:https://eso-stroke.org/events/eso-education-webinar-29-management-of-t
 andem-occlusions/
SUMMARY:ESO Education webinar #29 - Mastering the Management of Tandem Lesi
 ons in Acute Ischaemic Stroke – From Pathophysiology to Practice
DESCRIPTION:Join us for a comprehensive and interactive exploration of one 
 of the most complex scenarios in acute stroke care. To begin\, Dr. Petra C
 imflova will present real-world cases\, highlighting key considerations\, 
 such as the timing of carotid stenting\, the choice of endovascular techni
 ques\, and the management of antiplatelet therapy in the context of EVT. N
 ext\, Dr. Mikael Mazighi will focus on practical strategies for individual
 ised decision-making\, including patient selection\, procedural techniques
 \, and post-procedural management\, with a particular emphasis on balancin
 g efficacy and safety.\n\nThe session will conclude with an interactive di
 scussion with the faculty\, moderated by Vojtech Novotny and Anita Arsovsk
 a.\n\nRegister here.
ATTACH;FMTTYPE=image/jpeg:https://eso-stroke.org/wp-content/uploads/ESO260
 9-Webinar-002-1.jpg
CATEGORIES:ESO Event
END:VEVENT
BEGIN:VTIMEZONE
TZID:Europe/Zurich
X-LIC-LOCATION:Europe/Zurich
BEGIN:DAYLIGHT
DTSTART:20260329T030000
TZOFFSETFROM:+0100
TZOFFSETTO:+0200
TZNAME:CEST
END:DAYLIGHT
END:VTIMEZONE
END:VCALENDAR