BEGIN:VCALENDAR
VERSION:2.0
PRODID:-//wp-events-plugin.com//7.2.2.1//EN
TZID:Europe/Zurich
X-WR-TIMEZONE:Europe/Zurich
BEGIN:VEVENT
UID:1@eso-stroke.org
DTSTART;TZID=Europe/London;VALUE=DATE:20200224
DTEND;TZID=Europe/London;VALUE=DATE:20200227
DTSTAMP:20200220T090238Z
URL:https://eso-stroke.org/events/eso-edinburgh-stroke-research-workshop/
SUMMARY:ESO Edinburgh Stroke Research Workshop
DESCRIPTION:\n\n\n\nThe ESO Edinburgh Stroke Research Workshop is the place
  for aspiring stroke researchers to work with leaders in the field. The St
 roke Research Workshop brings together like-minded health professionals an
 d scientists for three days focused on stroke research in one of Europe`s 
 most beautiful cities.\n\nPlease note that the ESO Edinburgh Stroke Resear
 ch Workshop is on application only and participation is limited. Applicati
 ons are now being accepted for the 7th ESO Edinburgh Stroke Research Works
 hop\, 24-26 February 2020.\n\nFurther details about the 3-day workshop can
  be found here: https://www.ed.ac.uk/clinical-brain-sciences/postgraduate-
 training/eso-edinburgh-stroke-research-workshop\n\n\n\n
ATTACH;FMTTYPE=image/jpeg:https://eso-stroke.org/wp-content/uploads/St-Leo
 nards-Hall-headquarters-for-your-3-day-stay-in-Edinburgh-300x225-1.jpg
CATEGORIES:ESO Event
LOCATION:Université de Caen Normandie Esplanade de la Paix\,  CS 14032\, C
 aen\, 14032 \, France
GEO:49.297347;0.281203
X-APPLE-STRUCTURED-LOCATION;VALUE=URI;X-ADDRESS= CS 14032\, Caen\, 14032 \,
  France;X-APPLE-RADIUS=100;X-TITLE=Université de Caen Normandie Esplanade
  de la Paix:geo:49.297347,0.281203
END:VEVENT
BEGIN:VTIMEZONE
TZID:Europe/London
X-LIC-LOCATION:Europe/London
BEGIN:STANDARD
DTSTART:20191027T010000
TZOFFSETFROM:+0100
TZOFFSETTO:+0000
TZNAME:GMT
END:STANDARD
END:VTIMEZONE
END:VCALENDAR