BEGIN:VCALENDAR
VERSION:2.0
PRODID:-//wp-events-plugin.com//7.2.2.1//EN
TZID:Europe/Zurich
X-WR-TIMEZONE:Europe/Zurich
BEGIN:VEVENT
UID:43@eso-stroke.org
DTSTART;TZID=Europe/Zurich;VALUE=DATE:20210222
DTEND;TZID=Europe/Zurich;VALUE=DATE:20210223
DTSTAMP:20201028T083650Z
URL:https://eso-stroke.org/events/eso-edinburgh-stroke-research-workshop-v
 irtual-for-2021/
SUMMARY:ESO Edinburgh Stroke Research Workshop (virtual for 2021)
DESCRIPTION:A 3-day course to help clinical academics develop a research qu
 estion for a stroke-related PhD or MD project.\n\n&nbsp\;\nWhat is the ESO
  Edinburgh Stroke Research Workshop?\n\n\n    \n\n\n\n\n    \n\n\nThe ESO 
 Edinburgh Stroke Research Workshop (formerly known as the Edinburgh Stroke
  Winter School) aims to help new or aspiring clinical academics develop an
 swerable research questions.\n\nWe will concentrate on the first three ste
 ps of developing research project: defining your research question\; choos
 ing the best design\; and presentation to potential funders and collaborat
 ors.\n\nThe Workshop is supported by the European Stroke Organisation (ESO
 ) and the UK Stroke Association.\nDates for the next Workshop\nThe 8th ESO
  Edinburgh Stroke Research Workshop will be held on 22nd-24th February 202
 1. application deadline 13 December 2020.\n\nMore information\, including 
 how to apply\, can be found on the event website.\n\nWe're going virtual! 
 The 2021 course will be held entirely online.
ATTACH;FMTTYPE=image/jpeg:https://eso-stroke.org/wp-content/uploads/ESO-ES
 RW-2021.png
CATEGORIES:ESO Event
END:VEVENT
BEGIN:VTIMEZONE
TZID:Europe/Zurich
X-LIC-LOCATION:Europe/Zurich
BEGIN:STANDARD
DTSTART:20201025T020000
TZOFFSETFROM:+0200
TZOFFSETTO:+0100
TZNAME:CET
END:STANDARD
END:VTIMEZONE
END:VCALENDAR