BEGIN:VCALENDAR
VERSION:2.0
PRODID:-//wp-events-plugin.com//7.2.2.1//EN
TZID:Europe/Zurich
X-WR-TIMEZONE:Europe/Zurich
BEGIN:VEVENT
UID:282@eso-stroke.org
DTSTART;TZID=Europe/Zurich:20260305T130000
DTEND;TZID=Europe/Zurich:20260305T130000
DTSTAMP:20260217T093135Z
URL:https://eso-stroke.org/events/eso-csa-joint-webinar-stroke-research-wh
 at-needs-to-be-considered-when-setting-up-a-project/
SUMMARY:ESO-CSA Joint webinar Stroke Research – what needs to be consider
 ed when setting up a project.
DESCRIPTION:Join ESO and the CSA (Chinese Stroke Assocation) for a webinar 
 on Stroke Research – what needs to be considered when setting up a proj
 ect.\n\nModerators:\nGuillaume Turc\, France and Liping Liu\, China\n\nPro
 gramme:\n\n 	Presentation “Fundamentals of Clinical Research in Stroke
 ”\nSpeaker: Valeria Caso\, Italy\n 	Presentation “Insight from Clinica
 l Trials of Reperfusion Therapy for AIS”\nSpeaker: Xin Cheng\, China\n\n
 Presentations will be followed by an interactive discussion.\n\nView the 
 full programme here.\n\nRegister here.
CATEGORIES:ESO Event
END:VEVENT
BEGIN:VTIMEZONE
TZID:Europe/Zurich
X-LIC-LOCATION:Europe/Zurich
BEGIN:STANDARD
DTSTART:20251026T020000
TZOFFSETFROM:+0200
TZOFFSETTO:+0100
TZNAME:CET
END:STANDARD
END:VTIMEZONE
END:VCALENDAR