BEGIN:VCALENDAR
VERSION:2.0
PRODID:-//wp-events-plugin.com//7.2.2.1//EN
TZID:Europe/Zurich
X-WR-TIMEZONE:Europe/Zurich
BEGIN:VEVENT
UID:244@eso-stroke.org
DTSTART;TZID=Europe/Zurich;VALUE=DATE:20250829
DTEND;TZID=Europe/Zurich;VALUE=DATE:20250902
DTSTAMP:20250623T083502Z
URL:https://eso-stroke.org/events/esc-congress-2025/
SUMMARY:ESC Congress 2025
DESCRIPTION:The ESC Congress 2025\, held jointly with the World Congress of
  Cardiology\, will take place from 29 August to 1 September 2025 at the IF
 EMA Feria de Madrid\, in Madrid\, Spain. \nThe congress brings together o
 ver 30\,000 cardiovascular professionals from more than 150 countries and 
 features a rich scientific programme—including late-breaking clinical tr
 ial presentations\, guideline releases\, digital cardiology\, as well as w
 orkshops and symposia covering the full scope of cardiovascular medicine.\
 nWe are pleased to announce that ESO will be exhibiting at Booth B100 in t
 he International Association Row\, offering an excellent opportunity for a
 ttendees to network\, learn about ESO’s initiatives\, and engage with th
 e stroke and cardiovascular community.
CATEGORIES:Non-ESO
END:VEVENT
BEGIN:VTIMEZONE
TZID:Europe/Zurich
X-LIC-LOCATION:Europe/Zurich
BEGIN:DAYLIGHT
DTSTART:20250330T030000
TZOFFSETFROM:+0100
TZOFFSETTO:+0200
TZNAME:CEST
END:DAYLIGHT
END:VTIMEZONE
END:VCALENDAR