BEGIN:VCALENDAR
VERSION:2.0
PRODID:-//wp-events-plugin.com//7.2.2.1//EN
TZID:Europe/Zurich
X-WR-TIMEZONE:Europe/Zurich
BEGIN:VEVENT
UID:98@eso-stroke.org
DTSTART;TZID=Europe/London;VALUE=DATE:20221010
DTEND;TZID=Europe/London;VALUE=DATE:20221013
DTSTAMP:20220509T082929Z
URL:https://eso-stroke.org/events/edinburgh-stroke-research-workshop/
SUMMARY:Edinburgh Stroke Research Workshop
DESCRIPTION:The 9th ESO Edinburgh Stroke Research Workshop will take place 
 10-12 October 2022\n\nWe are a Europe-wide group of stroke clinicians and 
 researchers who study how to improve understanding of the causes and conse
 quences of stroke\, and how better to improve prevention and recovery.\n\n
 Over the course of 3 days\, we will work with you to develop a research qu
 estion that is new and is feasible for a PhD or MD project.\n\nAt the end 
 of the Workshop you will present your research question to a panel of expe
 rts.\n\nTo apply\, visit the workshop website for the application procedur
 e\, programme\, FAQs and more.\n\nThe application deadline is 15 June 2022
 .
ATTACH;FMTTYPE=image/jpeg:https://eso-stroke.org/wp-content/uploads/St-Leo
 nards-Hall-headquarters-for-your-3-day-stay-in-Edinburgh-300x225-1.jpg
CATEGORIES:ESO Event
END:VEVENT
BEGIN:VTIMEZONE
TZID:Europe/London
X-LIC-LOCATION:Europe/London
BEGIN:DAYLIGHT
DTSTART:20220327T020000
TZOFFSETFROM:+0000
TZOFFSETTO:+0100
TZNAME:BST
END:DAYLIGHT
END:VTIMEZONE
END:VCALENDAR