BEGIN:VCALENDAR
VERSION:2.0
PRODID:-//wp-events-plugin.com//7.2.2.1//EN
TZID:Europe/Zurich
X-WR-TIMEZONE:Europe/Zurich
BEGIN:VEVENT
UID:74@eso-stroke.org
DTSTART;TZID=Europe/Zurich:20210927T143000
DTEND;TZID=Europe/Zurich:20210927T160000
DTSTAMP:20210923T085200Z
URL:https://eso-stroke.org/events/each-european-alliance-for-cardiovascula
 r-health-policy-debate/
SUMMARY:each - European Alliance for Cardiovascular Health - Policy Debate
DESCRIPTION:A new European Alliance for Cardiovascular Health:\nBecause EAC
 H person counts!\nIf COVID-19 has taught us one lesson\, is that there is 
 an urgent need for more EU coordination on health. Diseases – whether th
 ey are infectious or not – do not stop at borders. Cardiovascular diseas
 es remain the leading cause of death in Europe\, and impact 60 million peo
 ple every year.\n \nCardiovascular diseases will directly or indirectly i
 mpact all of us at some point in our lives. Impacting people of all ages\
 , the diseases are not always preventable\, as many conditions can be in
 herited\, caused by other chronic conditions or their treatments\, or othe
 rs incur due to ageing. To improve the health and quality of life of peop
 le affected by these diseases\, there is a need for more. More research\, 
 more investments\, more innovation\, more policy.\n \nIt's time for the E
 U and Member States to act.\n \nJoin the founding organisations of the 
 European Alliance for Cardiovascular Health\, representatives of the Europ
 ean Commission\, Member States and European Parliament for a virtual polic
 y debate that will mark the launch of the Alliance and discuss policy acti
 ons to improve cardiovascular care for citizens across the EU.\nFull progr
 amme\n\nRegister to participate
ATTACH;FMTTYPE=image/jpeg:https://eso-stroke.org/wp-content/uploads/each-l
 ogo-_-not-sharp-20210923.png
CATEGORIES:ESO Event,ESO-Endorsed
END:VEVENT
BEGIN:VTIMEZONE
TZID:Europe/Zurich
X-LIC-LOCATION:Europe/Zurich
BEGIN:DAYLIGHT
DTSTART:20210328T030000
TZOFFSETFROM:+0100
TZOFFSETTO:+0200
TZNAME:CEST
END:DAYLIGHT
END:VTIMEZONE
END:VCALENDAR