BEGIN:VCALENDAR
VERSION:2.0
PRODID:-//wp-events-plugin.com//7.2.2.1//EN
TZID:Europe/Zurich
X-WR-TIMEZONE:Europe/Zurich
BEGIN:VEVENT
UID:144@eso-stroke.org
DTSTART;TZID=Europe/Zurich;VALUE=DATE:20230622
DTEND;TZID=Europe/Zurich;VALUE=DATE:20230624
DTSTAMP:20230616T131137Z
URL:https://eso-stroke.org/events/dysphagia-course-series/
SUMMARY:Dysphagia Course Series
DESCRIPTION:This Dysphagia Course Series aims to be an enriching and enligh
 tening experience for all participants\, offering valuable insights into d
 ysphagia and its management. All interested healthcare professionals\, inc
 luding speech-language pathologists\, otolaryngologists\, neurologists\, d
 ietitians\, and nurses are warmly welcomed\, to join the course in Tashken
 t\, Uzbekistan\, from the 22nd to the 23rd of June\, 2023. Don’t miss th
 is unique opportunity to expand your expertise\, network with professional
 s in the field\, and enhance your ability to manage dysphagia effectively.
CATEGORIES:ESO-Endorsed
END:VEVENT
BEGIN:VTIMEZONE
TZID:Europe/Zurich
X-LIC-LOCATION:Europe/Zurich
BEGIN:DAYLIGHT
DTSTART:20230326T030000
TZOFFSETFROM:+0100
TZOFFSETTO:+0200
TZNAME:CEST
END:DAYLIGHT
END:VTIMEZONE
END:VCALENDAR