BEGIN:VCALENDAR
VERSION:2.0
PRODID:-//wp-events-plugin.com//7.2.2.1//EN
TZID:Europe/Zurich
X-WR-TIMEZONE:Europe/Zurich
BEGIN:VEVENT
UID:297@eso-stroke.org
DTSTART;TZID=Europe/Zurich;VALUE=DATE:20261112
DTEND;TZID=Europe/Zurich;VALUE=DATE:20261116
DTSTAMP:20260422T153705Z
URL:https://eso-stroke.org/events/asian-stroke-summer-school-2026/
SUMMARY:Asian Stroke Summer School 2026
DESCRIPTION:The aim of the summer school teaching course is to aid stroke p
 hysicians and neurointerventionists to work as a team in order to enhance 
 the interdisciplinary management of stroke patients.\n\nThe school will be
  offering a series of high-quality teaching sessions and courses on acute 
 stroke management to facilitate the participants in building a stroke trea
 tment network in their respective regions. They will be equipped with the 
 knowledge of the critical factors in the successful optimization of the in
 -hospital workflow and the selection of patients who are candidates for re
 vascularization\, both endovascular therapy and intravenous thrombolysis.\
 n\nWebsite: www.asss2026.com
ATTACH;FMTTYPE=image/jpeg:https://eso-stroke.org/wp-content/uploads/asian.
 png
CATEGORIES:ESO-Endorsed
LOCATION:Thiruvananthapuram\, Kerala\, India\, India
X-APPLE-STRUCTURED-LOCATION;VALUE=URI;X-ADDRESS=Kerala\, India\, India;X-AP
 PLE-RADIUS=100;X-TITLE=Thiruvananthapuram:geo:0,0
END:VEVENT
BEGIN:VTIMEZONE
TZID:Europe/Zurich
X-LIC-LOCATION:Europe/Zurich
BEGIN:STANDARD
DTSTART:20261025T020000
TZOFFSETFROM:+0200
TZOFFSETTO:+0100
TZNAME:CET
END:STANDARD
END:VTIMEZONE
END:VCALENDAR