BEGIN:VCALENDAR
VERSION:2.0
PRODID:-//wp-events-plugin.com//7.2.2.1//EN
TZID:Europe/Zurich
X-WR-TIMEZONE:Europe/Zurich
BEGIN:VEVENT
UID:295@eso-stroke.org
DTSTART;TZID=Europe/Zurich;VALUE=DATE:20260511
DTEND;TZID=Europe/Zurich;VALUE=DATE:20260513
DTSTAMP:20260422T134844Z
URL:https://eso-stroke.org/events/aria-summit/
SUMMARY:ARIA Summit
DESCRIPTION:On behalf of the American Heart Association and the American St
 roke Association\, we are forwarding information about its ARIA Summit: C
 ardiovascular and Stroke Considerations for β-Amyloid Immunotherapy in A
 lzheimer’s Disease on May 11 and 12 near Maastricht\, The Netherla
 nds. The Summit is being held following the European  Stroke Organisati
 on Conference. There are a limited number of spaces still available for 
 this Summit\, so if you are interested\, please respond as soon as possibl
 e\, as indicated below.\n\nThis day-long\, in-person summit will include a
 pproximately 75 thought leaders across multi-disciplinary fields\, includi
 ng neurology\, neurocritical care\, emergency medicine\, neuroscience nurs
 ing\, risk communications\, ethics\, etc. Insights from the Summit will in
 form development of a Special Report.\n\nThis Summit is a follow-up to a s
 imilar ARIA Summit that the Association held in the United States in Jul
 y 2025\, which resulted in the development of key considerations for cari
 ng for patients with Alzheimer’s Disease who are at risk for cerebrova
 scular disease and ARIA (manuscript is pending publication). The objecti
 ve of the European Summit is to address clinical issues posed by the n
 ew anti-amyloid therapies and consider\n\ndirections for the future wit
 h tailored guidance for Europe.\n\nThe American Heart Association ARIA Sum
 mit is supported by Eli Lilly and Company. Your participation in the summi
 t will not result in any accrual of relationship with industry.\n\nEvent D
 etails:\n\nLocation: Château St. Gerlach\, Valkenburg\, The Netherlan
 ds (about 10 minutes from Maastricht)\n\nDate: 13:00 Monday\, May 11\,
  2026 – 13:00 Tuesday\, May 12\, 2026\n\nTo express your interest in
  attending the Summit\, please contact Stephanie Mohl at Stephanie.Mohl@h
 eart.org. The American Heart Association will then follow up with addition
 al information.
ATTACH;FMTTYPE=image/jpeg:https://eso-stroke.org/wp-content/uploads/Pictur
 e1-4.jpg
CATEGORIES:Non-ESO
END:VEVENT
BEGIN:VTIMEZONE
TZID:Europe/Zurich
X-LIC-LOCATION:Europe/Zurich
BEGIN:DAYLIGHT
DTSTART:20260329T030000
TZOFFSETFROM:+0100
TZOFFSETTO:+0200
TZNAME:CEST
END:DAYLIGHT
END:VTIMEZONE
END:VCALENDAR