BEGIN:VCALENDAR
VERSION:2.0
PRODID:-//wp-events-plugin.com//7.2.2.1//EN
TZID:Europe/Zurich
X-WR-TIMEZONE:Europe/Zurich
BEGIN:VEVENT
UID:279@eso-stroke.org
DTSTART;TZID=Europe/Zurich;VALUE=DATE:20260320
DTEND;TZID=Europe/Zurich;VALUE=DATE:20260321
DTSTAMP:20260202T101000Z
URL:https://eso-stroke.org/events/annual-meeting-of-austrian-society-of-ne
 urology-ogn-2026/
SUMMARY:Annual Meeting of Austrian Society of Neurology (ÖGN) 2026
DESCRIPTION:Look forward to an exciting program with plenary and parallel s
 essions\, compact courses &amp\; practical seminars\, the latest scientifi
 c findings for practice and exchange with colleagues from all areas of neu
 rology. The motto from this year‘s meeting is “Neurology between “hi
 -tech and empathy” and it describes the everyday work of neurologists\, 
 whether in the practice\, in the hospital or in specialized clinics.\n\nMo
 re information here.
ATTACH;FMTTYPE=image/jpeg:https://eso-stroke.org/wp-content/uploads/Banner
 -OGN26-scaled.jpg
CATEGORIES:ESO-Endorsed
END:VEVENT
BEGIN:VTIMEZONE
TZID:Europe/Zurich
X-LIC-LOCATION:Europe/Zurich
BEGIN:STANDARD
DTSTART:20251026T020000
TZOFFSETFROM:+0200
TZOFFSETTO:+0100
TZNAME:CET
END:STANDARD
END:VTIMEZONE
END:VCALENDAR