BEGIN:VCALENDAR
VERSION:2.0
PRODID:-//wp-events-plugin.com//7.2.2.1//EN
TZID:Europe/Zurich
X-WR-TIMEZONE:Europe/Zurich
BEGIN:VEVENT
UID:21@eso-stroke.org
DTSTART;TZID=Europe/Berlin;VALUE=DATE:20200622
DTEND;TZID=Europe/Berlin;VALUE=DATE:20200708
DTSTAMP:20200615T115825Z
URL:https://eso-stroke.org/events/angels-initiative-virtual-train-the-trai
 ner-workshop/
SUMMARY:Angels Initiative Virtual Train the Trainer Workshop
DESCRIPTION:Event Description\n\nThe purpose of the workshop\, is the follo
 wing:\n- To agree on the strategy and the goals for the initiative in the 
 represented hospitals and countries.\n- Based on our experience in the hos
 pitals we have identified specific topics that could be optimized. With th
 is in mind we developed an interactive training package\, as an example of
  how this could potentially be implemented in the country and hospitals. T
 he workshops are hands-on and discussion based sessions\, where we aim to 
 promote practical solutions on how to optimize and standardize the stroke 
 pathway (Hyperacute workshop)\, simplify and streamline the medical decisi
 on making process (Decision making workshop)\, simplify through a stepwise
  approach the CT imaging interpretation (CT imaging workshop). Our event a
 lso covers the importance of quality monitoring and data collection (Quali
 ty monitoring session)\, how to include in-hospital dummy patient simulati
 ons on daily hospital training (In-hospital simulation session) and the im
 portance of the pre-hospital organization and engaging with the pre-hospit
 al staff in order to achieve optimal DTT times (Pre-hospital session).\n\n
 &nbsp\;\n\nTargeted Participants\n\nThe Angels Initiative is currently act
 ive in 21 European countries\, and has dedicated Angel consultants working
  with the hospitals\, in 12 of these countries. For the remaining 9 countr
 ies we organize these Train the Trainer workshops\, in Germany\, and we as
 k each country to nominate 3 representatives to attend the workshops. Targ
 eted participants are mainly strokeologists and neurologists and to a less
 er extent also stroke nurses.\n\n&nbsp\;\n\nMore information: www.angels-i
 nitiative.com
ATTACH;FMTTYPE=image/jpeg:https://eso-stroke.org/wp-content/uploads/logo-s
 quare-e1601288970398.png
CATEGORIES:ESO-Endorsed
END:VEVENT
BEGIN:VTIMEZONE
TZID:Europe/Berlin
X-LIC-LOCATION:Europe/Berlin
BEGIN:DAYLIGHT
DTSTART:20200329T030000
TZOFFSETFROM:+0100
TZOFFSETTO:+0200
TZNAME:CEST
END:DAYLIGHT
END:VTIMEZONE
END:VCALENDAR