BEGIN:VCALENDAR
VERSION:2.0
PRODID:-//wp-events-plugin.com//7.2.2.1//EN
TZID:Europe/Zurich
X-WR-TIMEZONE:Europe/Zurich
BEGIN:VEVENT
UID:46@eso-stroke.org
DTSTART;TZID=Europe/Zurich;VALUE=DATE:20210301
DTEND;TZID=Europe/Zurich;VALUE=DATE:20210325
DTSTAMP:20210119T162434Z
URL:https://eso-stroke.org/events/angels-initiative-virtual-train-the-trai
 ner-workshop-3/
SUMMARY:Angels Initiative Virtual Train the Trainer Workshop
DESCRIPTION:The purpose of the workshop\, is the following:\n- To agree on 
 the strategy and the goals for the initiative in the represented hospitals
  and countries.\n- Based on our experience in the hospitals we have identi
 fied specific topics that could be optimized. With this in mind we develop
 ed an interactive training package\, as an example of how this could poten
 tially be implemented in the country and hospitals. The workshops are hand
 s-on and discussion based sessions\, where we aim to promote practical sol
 utions on how to optimize and standardize the stroke pathway (Hyperacute w
 orkshop)\, simplify and streamline the medical decision making process (De
 cision making workshop)\, simplify through a stepwise approach the CT imag
 ing interpretation (CT imaging workshop). Our event also covers the import
 ance of quality monitoring and data collection (Quality monitoring session
 )\, how to apply the NIH Stroke Scale (NIHSS workshop)\, how to include in
 -hospital dummy patient simulations on daily hospital training and the imp
 ortance of the pre-hospital organization and engaging with the pre-hospita
 l staff in order to achieve optimal DTT times (Pre-hospital session).\n\nT
 he Angels Initiative is currently active in 21 European countries\, and ha
 s dedicated Angel consultants working with the hospitals\, in 12 of these 
 countries. For the remaining 9 countries we organize these Train the Train
 er workshops\, and we ask each country to nominate 3 representatives to at
 tend the workshops. Targeted participants are mainly strokeologists and ne
 urologists and to a lesser extent also stroke nurses.\n\nMore information:
  www.angels-initiative.com\n\n&nbsp\;
ATTACH;FMTTYPE=image/jpeg:https://eso-stroke.org/wp-content/uploads/Angels
 -logo-for-train-the-trainer.png
CATEGORIES:ESO-Endorsed
END:VEVENT
BEGIN:VTIMEZONE
TZID:Europe/Zurich
X-LIC-LOCATION:Europe/Zurich
BEGIN:STANDARD
DTSTART:20201025T020000
TZOFFSETFROM:+0200
TZOFFSETTO:+0100
TZNAME:CET
END:STANDARD
END:VTIMEZONE
END:VCALENDAR