BEGIN:VCALENDAR
VERSION:2.0
PRODID:-//wp-events-plugin.com//7.2.2.1//EN
TZID:Europe/Zurich
X-WR-TIMEZONE:Europe/Zurich
BEGIN:VEVENT
UID:80@eso-stroke.org
DTSTART;TZID=Europe/Berlin;VALUE=DATE:20211205
DTEND;TZID=Europe/Berlin;VALUE=DATE:20211208
DTSTAMP:20211108T122204Z
URL:https://eso-stroke.org/events/angels-initiative-train-the-trainer-work
 shop-mainz-2/
SUMMARY:Angels Initiative Train the Trainer Workshop\, Mainz
DESCRIPTION:The purpose of the workshop\, is the following:\n- To agree on 
 the strategy and the goals for the initiative in the represented hospitals
  and countries.\n- Based on our experience in the hospitals we have identi
 fied specific topics that could be optimized.\n\nwww.angels-initiative.com
ATTACH;FMTTYPE=image/jpeg:https://eso-stroke.org/wp-content/uploads/Angels
 -logo-for-train-the-trainer.png
CATEGORIES:ESO-Endorsed
LOCATION:MiCo Milano Congressi\, Piazzale \, Milan\, 20149\, Italy
GEO:45.4809855;9.153456900000037
X-APPLE-STRUCTURED-LOCATION;VALUE=URI;X-ADDRESS=Piazzale \, Milan\, 20149\,
  Italy;X-APPLE-RADIUS=100;X-TITLE=MiCo Milano Congressi:geo:45.4809855,9.1
 53456900000037
END:VEVENT
BEGIN:VTIMEZONE
TZID:Europe/Berlin
X-LIC-LOCATION:Europe/Berlin
BEGIN:STANDARD
DTSTART:20211031T020000
TZOFFSETFROM:+0200
TZOFFSETTO:+0100
TZNAME:CET
END:STANDARD
END:VTIMEZONE
END:VCALENDAR