BEGIN:VCALENDAR
VERSION:2.0
PRODID:-//wp-events-plugin.com//7.2.2.1//EN
TZID:Europe/Zurich
X-WR-TIMEZONE:Europe/Zurich
BEGIN:VEVENT
UID:30@eso-stroke.org
DTSTART;TZID=Europe/Zurich:20201108T120000
DTEND;TZID=Europe/Zurich:20201108T133000
DTSTAMP:20200916T112723Z
URL:https://eso-stroke.org/events/angels-initiative-satellite-symposium-st
 roke-care-taking-flight-with-the-wings-of-angels/
SUMMARY:Angels Initiative Satellite Symposium - Stroke Care Taking Flight w
 ith the Wings of Angels
DESCRIPTION:The symposium will explore the Angels journey across the word f
 or the past four years. It will showcase how success is possible even in c
 hallenging environments\, highlight the importance of in-hospital-simulati
 ons\, the connection of pre- with in-hospital stroke care and regional pla
 nning. The journey will lead us through countries like Philippines\, Egypt
 \, Brazil and Czech Republic.\n\nTargeted participants are mainly strokeol
 ogists and neurologists and also stroke nurses and ambulance staff.\n\nThe
  Angels Initiative is now four years old\, and we are thrilled with the pr
 ogress we have made so far. Over 4\,000 hospitals have registered in over 
 112 countries and we are continuing to gain momentum globally.\n\nwww.ange
 ls-initiative.com\n\nAngels Initiative is a non-promotional\, health care 
 project of Boehringer Ingelheim International GmbH to support the ESO and 
 WSO in implementing their main goal\, to improve stroke care around the wo
 rld.
ATTACH;FMTTYPE=image/jpeg:https://eso-stroke.org/wp-content/uploads/logo-s
 quare-e1601288970398.png
CATEGORIES:ESO-Endorsed
END:VEVENT
BEGIN:VTIMEZONE
TZID:Europe/Zurich
X-LIC-LOCATION:Europe/Zurich
BEGIN:STANDARD
DTSTART:20201025T020000
TZOFFSETFROM:+0200
TZOFFSETTO:+0100
TZNAME:CET
END:STANDARD
END:VTIMEZONE
END:VCALENDAR