BEGIN:VCALENDAR
VERSION:2.0
PRODID:-//wp-events-plugin.com//7.2.2.1//EN
TZID:Europe/Zurich
X-WR-TIMEZONE:Europe/Zurich
BEGIN:VEVENT
UID:55@eso-stroke.org
DTSTART;TZID=Europe/Zurich;VALUE=DATE:20210617
DTEND;TZID=Europe/Zurich;VALUE=DATE:20210618
DTSTAMP:20210420T061659Z
URL:https://eso-stroke.org/events/aging/
SUMMARY:Ageing well with stroke in the era of COVID-19 eCongress
DESCRIPTION:The conference is intended for anyone involved in stroke care\,
  rehabilitation and long-term support\, including: nurses\, allied health 
 professionals\, doctors\, researchers\, bioengineers\, educators and stude
 nts in these fields\, as well as representatives from the 3rd sector. It m
 ay also be of interest to people affected by stroke.\n\n&nbsp\;\n\nMore in
 formation and Programme: https://fitwise.eventsair.com/cmspreview/2021-age
 ing-well-with-stroke/\n\n
ATTACH;FMTTYPE=image/jpeg:https://eso-stroke.org/wp-content/uploads/Ageing
 -well-with-stroke.png
CATEGORIES:ESO-Endorsed
END:VEVENT
BEGIN:VTIMEZONE
TZID:Europe/Zurich
X-LIC-LOCATION:Europe/Zurich
BEGIN:DAYLIGHT
DTSTART:20210328T030000
TZOFFSETFROM:+0100
TZOFFSETTO:+0200
TZNAME:CEST
END:DAYLIGHT
END:VTIMEZONE
END:VCALENDAR