BEGIN:VCALENDAR
VERSION:2.0
PRODID:-//wp-events-plugin.com//7.2.2.1//EN
TZID:Europe/Zurich
X-WR-TIMEZONE:Europe/Zurich
BEGIN:VEVENT
UID:196@eso-stroke.org
DTSTART;TZID=Europe/Zurich:20240827T090000
DTEND;TZID=Europe/Zurich:20240827T150000
DTSTAMP:20240816T100208Z
URL:https://eso-stroke.org/events/action-plan-publication-update-online-pl
 enum-meeting/
SUMMARY:Action Plan Publication update - Online Plenum meeting
DESCRIPTION:The “Action Plan for Stroke in Europe” publication is being
  updated to a 2.0 version.\n\nAs significant scientific developments have 
 happened since 2018 and new data has been released\, the Domain Working gr
 oups\, composed of original contributors and new members\, have again been
  asked to provide their input on the respective domains.\n\nThe update is 
 now entering its final phase and all stakeholders will have the opportunit
 y to comment and contribute to that discussion\, during the upcoming onlin
 e plenum meeting: Tuesday 27 August 2024\, from 9:00 to 15:00 CEST.\n\nTh
 e programme will feature presentations by the Domain groups and discussion
 s on each domain\, as well as the section on translational research\, as w
 ell as discussions with participants.\n\nThe detailed programme can be fou
 nd here. \n\nThe meeting will be upon registration only: Click here to 
 register.
ATTACH;FMTTYPE=image/jpeg:https://eso-stroke.org/wp-content/uploads/SAP-E-
 Logo_LG.jpg
CATEGORIES:ESO Event
END:VEVENT
BEGIN:VTIMEZONE
TZID:Europe/Zurich
X-LIC-LOCATION:Europe/Zurich
BEGIN:DAYLIGHT
DTSTART:20240331T030000
TZOFFSETFROM:+0100
TZOFFSETTO:+0200
TZNAME:CEST
END:DAYLIGHT
END:VTIMEZONE
END:VCALENDAR