BEGIN:VCALENDAR
VERSION:2.0
PRODID:-//wp-events-plugin.com//7.2.2.1//EN
TZID:Europe/Zurich
X-WR-TIMEZONE:Europe/Zurich
BEGIN:VEVENT
UID:71@eso-stroke.org
DTSTART;TZID=Europe/Zurich;VALUE=DATE:20211111
DTEND;TZID=Europe/Zurich;VALUE=DATE:20211115
DTSTAMP:20210921T095323Z
URL:https://eso-stroke.org/events/9th-hellenic-greek-national-stroke-confe
 rence/
SUMMARY:9th Hellenic (Greek) National Stroke Conference
DESCRIPTION:Event Description\nTo acquaint greek physicians involved in str
 oke management with all recent advances in the fields of stroke prevention
 \, treatment &amp\; rehabilitation.\n\nInvited speakers include eminent ES
 O members (Prof M. Dichgans-Germany\, Prof E.Sandset-Norway\, Prof G. Turc
 -France)\, Prof A.Shoamanesh-Canada and international stroke specialists o
 f Greek origin (Prof V.Lioutasand Dr. A. Charidimou-USA\, Prof m.Psychogio
 s-Switzerland\, Prof C. Krogias and Dr M.Georgakis-Germany).\n\n&nbsp\;\nT
 arget Participants\nThe meeting is open to all specialties (physicians\, s
 tudents\, nurses) involved in the management of stroke patients. The facul
 ty of the event is multidisciplinary (vascular neurologists\, intervention
 al neuroradiologists\, neurosurgeons\, cardiologists\, internists\, rehabi
 litation physicians\, nurses and paramedics). There are joint sessions wit
 h the Hellenic Society of Interventional Radiology\, the Hellenic Society 
 of Physical and Rehabilitation Medicine and the Hellenic Society of Neuros
 urgery.\n\nMore information can be found on the Event Homepage: www.cerebr
 ovascular.gr
CATEGORIES:ESO-Endorsed
END:VEVENT
BEGIN:VTIMEZONE
TZID:Europe/Zurich
X-LIC-LOCATION:Europe/Zurich
BEGIN:STANDARD
DTSTART:20211031T020000
TZOFFSETFROM:+0200
TZOFFSETTO:+0100
TZNAME:CET
END:STANDARD
END:VTIMEZONE
END:VCALENDAR