BEGIN:VCALENDAR
VERSION:2.0
PRODID:-//wp-events-plugin.com//7.2.2.1//EN
TZID:Europe/Zurich
X-WR-TIMEZONE:Europe/Zurich
BEGIN:VEVENT
UID:107@eso-stroke.org
DTSTART;TZID=Europe/Zurich;VALUE=DATE:20221021
DTEND;TZID=Europe/Zurich;VALUE=DATE:20221024
DTSTAMP:20220707T093452Z
URL:https://eso-stroke.org/events/8th-mena-stroke-congress/
SUMMARY:8th MENA Stroke Congress
DESCRIPTION:The three-day hybrid event will spotlight the state-of-the-art 
 and emerging topics in stroke care\, for stroke professionals\, researcher
 s\, and other neurologists\, ommitted to advancing the goals in stroke car
 e and treatments in the MENA region. The onference provides a space for th
 e professionals for fruitful discussions\, interactions\, and better netwo
 rking opportunities\, which will help them to learn and bring breakthrough
 s in the field of Cerebrovascular accidents.\n\nTarget group:\nNeurologist
 \, Radiologist\, Family Medicine\, Internal Medicine\, Emergency Medicine\
 , Neuro-Interventionist\, Adult & Pediatric Neurology\, Neurocritical Care
  Physicians\, Fellows\, Residents\, Psychiatry\, Researchers\, Rehabilitat
 ion\, Neurosurgeons\, Medical Students\, Specialized Nurses in Neurology\,
  and Rehabilitation.\n\nCongress website: http://menastroke.org/8th-mena-s
 troke/ 
CATEGORIES:ESO-Endorsed
LOCATION:Conrad Hotel Abu Dhabi\,  \, Abu Dhabi\, United Arab Emirates
X-APPLE-STRUCTURED-LOCATION;VALUE=URI;X-ADDRESS= \, Abu Dhabi\, United Arab
  Emirates;X-APPLE-RADIUS=100;X-TITLE=Conrad Hotel Abu Dhabi:geo:0,0
END:VEVENT
BEGIN:VTIMEZONE
TZID:Europe/Zurich
X-LIC-LOCATION:Europe/Zurich
BEGIN:DAYLIGHT
DTSTART:20220327T030000
TZOFFSETFROM:+0100
TZOFFSETTO:+0200
TZNAME:CEST
END:DAYLIGHT
END:VTIMEZONE
END:VCALENDAR