BEGIN:VCALENDAR
VERSION:2.0
PRODID:-//wp-events-plugin.com//7.2.2.1//EN
TZID:Europe/Zurich
X-WR-TIMEZONE:Europe/Zurich
BEGIN:VEVENT
UID:69@eso-stroke.org
DTSTART;TZID=America/Los_Angeles;VALUE=DATE:20211101
DTEND;TZID=America/Los_Angeles;VALUE=DATE:20211105
DTSTAMP:20210915T050844Z
URL:https://eso-stroke.org/events/8th-international-symposium-on-collatera
 ls-to-the-brain/
SUMMARY:8th International Symposium on Collaterals to the Brain
DESCRIPTION:Event Focus\n1. To engage the expansive and diverse pool of str
 oke investigators around the world\, ensuring appropriate representation a
 nd adequate incorporation of variables relevant to the precision medicine 
 of cerebral hemodynamics.\n2. To employ a standard session structure and c
 oherent content that focuses on current regional activities related to cer
 ebral hemodynamics and expected milestone achievements.\n3. To maximize th
 e interactive yield of the meeting in scientific posters\, new mentoring o
 r networking connections and virtual exhibits for participants around the 
 world.\nTargeted Participants\nWe are aiming for all participants (fellows
 \, nurses\, physicians\, researchers) interested in stroke neurology\, inc
 luding\, vascular neurology\, collaterals\, etc. With the recent pandemic\
 , we recognized the importance to allow attendees to participate and is op
 en to all who are interested.\nMore information can be found on the offici
 al website.
CATEGORIES:ESO-Endorsed
END:VEVENT
BEGIN:VTIMEZONE
TZID:America/Los_Angeles
X-LIC-LOCATION:America/Los_Angeles
BEGIN:DAYLIGHT
DTSTART:20210314T030000
TZOFFSETFROM:-0800
TZOFFSETTO:-0700
TZNAME:PDT
END:DAYLIGHT
END:VTIMEZONE
END:VCALENDAR