BEGIN:VCALENDAR
VERSION:2.0
PRODID:-//wp-events-plugin.com//7.2.2.1//EN
TZID:Europe/Zurich
X-WR-TIMEZONE:Europe/Zurich
BEGIN:VEVENT
UID:110@eso-stroke.org
DTSTART;TZID=Europe/Zurich;VALUE=DATE:20221005
DTEND;TZID=Europe/Zurich;VALUE=DATE:20221008
DTSTAMP:20220808T152310Z
URL:https://eso-stroke.org/events/7th-middle-east-north-africa-stroke-and-
 interventional-neurotherapies-organization-congress-4th-mena-sino-congress
 /
SUMMARY:7th Middle East North Africa Stroke and interventional Neurotherapi
 es Organization Congress (7th MENA-SINO congress)
DESCRIPTION:The event focuses on recent updates in ischemic and hemorrhagic
  Stroke and neurointervention.\n\nTarget group:\nNeurologists \, strokolog
 ists \, Neurosurgeons \, Neuroradiologists \, ICU physcians \, ER physcian
 s \, Anesthesiologists \, stroke Nurses \, Technicians\n\nConference Websi
 te: https://menasino-conference.com
CATEGORIES:ESO-Endorsed
LOCATION:Grand Nile Tower Hotel\, Grand Nile Tower Hotel\, Cairo\, Egypt
X-APPLE-STRUCTURED-LOCATION;VALUE=URI;X-ADDRESS=Grand Nile Tower Hotel\, Ca
 iro\, Egypt;X-APPLE-RADIUS=100;X-TITLE=Grand Nile Tower Hotel:geo:0,0
END:VEVENT
BEGIN:VTIMEZONE
TZID:Europe/Zurich
X-LIC-LOCATION:Europe/Zurich
BEGIN:DAYLIGHT
DTSTART:20220327T030000
TZOFFSETFROM:+0100
TZOFFSETTO:+0200
TZNAME:CEST
END:DAYLIGHT
END:VTIMEZONE
END:VCALENDAR