BEGIN:VCALENDAR
VERSION:2.0
PRODID:-//wp-events-plugin.com//7.2.2.1//EN
TZID:Europe/Zurich
X-WR-TIMEZONE:Europe/Zurich
BEGIN:VEVENT
UID:77@eso-stroke.org
DTSTART;TZID=Europe/Zurich;VALUE=DATE:20211105
DTEND;TZID=Europe/Zurich;VALUE=DATE:20211107
DTSTAMP:20211014T112413Z
URL:https://eso-stroke.org/events/7th-mena-stroke-congress/
SUMMARY:7th MENA Stroke Congress
DESCRIPTION:The 7th MENA Stroke Congress 2021 promises for this yearly plan
 ned congress to be the cornerstone and foundation for an international sci
 entific meeting place and to be the core of stroke studies.\nCongress Webs
 ite
CATEGORIES:ESO-Endorsed
END:VEVENT
BEGIN:VTIMEZONE
TZID:Europe/Zurich
X-LIC-LOCATION:Europe/Zurich
BEGIN:STANDARD
DTSTART:20211031T020000
TZOFFSETFROM:+0200
TZOFFSETTO:+0100
TZNAME:CET
END:STANDARD
END:VTIMEZONE
END:VCALENDAR