BEGIN:VCALENDAR
VERSION:2.0
PRODID:-//wp-events-plugin.com//7.2.2.1//EN
TZID:Europe/Zurich
X-WR-TIMEZONE:Europe/Zurich
BEGIN:VEVENT
UID:24@eso-stroke.org
DTSTART;TZID=Europe/Zurich;VALUE=DATE:20200930
DTEND;TZID=Europe/Zurich;VALUE=DATE:20201002
DTSTAMP:20200729T120756Z
URL:https://eso-stroke.org/events/7th-international-caa-conference/
SUMMARY:7th International CAA Conference
DESCRIPTION:Welcome to the 7th International Cerebral Amyloid Angiopathy Co
 nference. We have crafted a program that features cutting-edge research\, 
 translational ideas for clinical trials\, and new knowledge on prevention 
 and treatment of manifestations of CAA such as hemorrhagic stroke.\n\nhttp
 s://icaaconference.org/
CATEGORIES:ESO-Endorsed
END:VEVENT
BEGIN:VTIMEZONE
TZID:Europe/Zurich
X-LIC-LOCATION:Europe/Zurich
BEGIN:DAYLIGHT
DTSTART:20200329T030000
TZOFFSETFROM:+0100
TZOFFSETTO:+0200
TZNAME:CEST
END:DAYLIGHT
END:VTIMEZONE
END:VCALENDAR