BEGIN:VCALENDAR
VERSION:2.0
PRODID:-//wp-events-plugin.com//7.2.2.1//EN
TZID:Europe/Zurich
X-WR-TIMEZONE:Europe/Zurich
BEGIN:VEVENT
UID:57@eso-stroke.org
DTSTART;TZID=Europe/Zurich;VALUE=DATE:20210602
DTEND;TZID=Europe/Zurich;VALUE=DATE:20210605
DTSTAMP:20210414T074351Z
URL:https://eso-stroke.org/events/4th-international-conference-of-esc-coun
 cil-on-stroke-heart-and-stroke-2021/
SUMMARY:4th International Conference of ESC Council on Stroke (Heart and St
 roke 2021)
DESCRIPTION:The International Conference of the ESC Council on Stroke is an
  educational conference for clinicians. It is designed not only for cardio
 logists\, but also for neurologists\, radiologists\, vascular surgeons\, n
 eurosurgeons whose work has a component in “stroke”.\n\n\n\n\nThe ESC 
 Heart &amp\; Stroke conference is a three half-day online sessions confere
 nce. This format will allow the members of our diverse community to join t
 he sessions that are professionally most relevant to their daily practice.
 \n\n\n\n\nThe Council on Stroke aims to bridge the gap between clinical an
 d scientific specialties and perspectives and its international conference
  on stroke will improve interdisciplinary cooperation.\n\n\n\nThe conferen
 ce is designed for cardiologists\, neurologists\, radiologists\, vascular 
 surgeons and neurosurgeons whose work has a stroke component.\n\nThe ESC H
 eart &amp\; Stroke conference is a three half-day online sessions conferen
 ce. This format will allow the members of our diverse community to join th
 e sessions that are professionally most relevant to their daily practice.\
 n\nThe scientific programme is developed by the ESC Council on Stroke Prog
 ramme Committee and the official language is English.\n\n\n\nMore informat
 ion on the meeting website: https://escheartstroke2021.gcon.me/page/home
CATEGORIES:ESO-Endorsed
END:VEVENT
BEGIN:VTIMEZONE
TZID:Europe/Zurich
X-LIC-LOCATION:Europe/Zurich
BEGIN:DAYLIGHT
DTSTART:20210328T030000
TZOFFSETFROM:+0100
TZOFFSETTO:+0200
TZNAME:CEST
END:DAYLIGHT
END:VTIMEZONE
END:VCALENDAR