BEGIN:VCALENDAR
VERSION:2.0
PRODID:-//wp-events-plugin.com//7.2.2.1//EN
TZID:Europe/Zurich
X-WR-TIMEZONE:Europe/Zurich
BEGIN:VEVENT
UID:105@eso-stroke.org
DTSTART;TZID=Europe/Zurich;VALUE=DATE:20220606
DTEND;TZID=Europe/Zurich;VALUE=DATE:20220611
DTSTAMP:20220602T054939Z
URL:https://eso-stroke.org/events/32nd-summer-stroke-school-healthy-lifest
 yle-and-prevention-of-stroke-and-other-brain-impairments-croatian-stroke-s
 ociety/
SUMMARY:32nd Summer Stroke School - Healthy Lifestyle and Prevention of Str
 oke and Other brain Impairments (Croatian Stroke Society)
DESCRIPTION:The primary objective of this traditional course organized by t
 he International Institute for Brain Health and the Croatian Stroke Societ
 y is to encourage cooperation and to promote exchange of knowledge between
  participants from different countries. The course is a meeting of respect
 ed scientists that work with stroke presenting and discussing all major as
 pects of stroke risk factors\, as well as new insights in epidemiology\, p
 revention\, diagnosis\, treatment and rehabilitation of stroke.\n\nTarget 
 Group:\nMedical students\, postgraduate students\, neurology residents\, n
 eurologists
ATTACH;FMTTYPE=image/jpeg:https://eso-stroke.org/wp-content/uploads/Banner
 -Summer-Stroke-School_2022_square.jpg
CATEGORIES:ESO-Endorsed
END:VEVENT
BEGIN:VTIMEZONE
TZID:Europe/Zurich
X-LIC-LOCATION:Europe/Zurich
BEGIN:DAYLIGHT
DTSTART:20220327T030000
TZOFFSETFROM:+0100
TZOFFSETTO:+0200
TZNAME:CEST
END:DAYLIGHT
END:VTIMEZONE
END:VCALENDAR