BEGIN:VCALENDAR
VERSION:2.0
PRODID:-//wp-events-plugin.com//7.2.2.1//EN
TZID:Europe/Zurich
X-WR-TIMEZONE:Europe/Zurich
BEGIN:VEVENT
UID:59@eso-stroke.org
DTSTART;TZID=Europe/Zagreb;VALUE=DATE:20210607
DTEND;TZID=Europe/Zagreb;VALUE=DATE:20210613
DTSTAMP:20210518T083101Z
URL:https://eso-stroke.org/events/31st-summer-stroke-school-virtual/
SUMMARY:31st Summer Stroke School - Virtual
DESCRIPTION:The primary objective of this traditional course organized by t
 he International Institute for Brain Health and the Croatian Stroke Societ
 y\nis to encourage cooperation and to promote exchange of knowledge betwee
 n participants from different countries. The course is a meeting of respec
 ted scientists that work with stroke presenting and discussing all major a
 spects of stroke risk factors\, as well as new insights in epidemiology\, 
 prevention\, diagnosis\, treatment and rehabilitation of stroke.\nAs brain
  diseases are increasing in number and becoming a major medical\, public h
 ealth and financial problem\, the learning objectives of this course inclu
 de other brain disease\, such as extrapyramidal disorders and dementia. Pr
 obably the major feature of the course is enabling exchange of experience 
 among experts and comparison of stroke data from various countries. Also\,
  the course allows knowledge transfer between respected scientists from we
 stern countries and colleagues from central and east European countries wo
 rking with stroke.\n\nMore information and registration: https://www.mozda
 niudar.hr/summer-stroke-school/14\n\nDownload the Programme.
CATEGORIES:ESO-Endorsed
END:VEVENT
BEGIN:VTIMEZONE
TZID:Europe/Zagreb
X-LIC-LOCATION:Europe/Zagreb
BEGIN:DAYLIGHT
DTSTART:20210328T030000
TZOFFSETFROM:+0100
TZOFFSETTO:+0200
TZNAME:CEST
END:DAYLIGHT
END:VTIMEZONE
END:VCALENDAR