BEGIN:VCALENDAR
VERSION:2.0
PRODID:-//wp-events-plugin.com//7.2.2.1//EN
TZID:Europe/Zurich
X-WR-TIMEZONE:Europe/Zurich
BEGIN:VEVENT
UID:16@eso-stroke.org
DTSTART;TZID=Europe/Zurich:20200710T000000
DTEND;TZID=Europe/Zurich:20200712T000000
DTSTAMP:20200427T093001Z
URL:https://eso-stroke.org/events/25th-esnch-conference-in-belgrade/
SUMMARY:25th ESNCH Conference in Belgrade
DESCRIPTION:\n\n\n\nMore information and registration can be found on the c
 onference website.\n\n\n\n
ATTACH;FMTTYPE=image/jpeg:https://eso-stroke.org/wp-content/uploads/ESNCH-
 logo2.jpg
LOCATION:Hilton Hotel Belgrade\, Kralja Milana 35\, Belgrade\, Serbia
GEO:44.80403;20.466169
X-APPLE-STRUCTURED-LOCATION;VALUE=URI;X-ADDRESS=Kralja Milana 35\, Belgrade
 \, Serbia;X-APPLE-RADIUS=100;X-TITLE=Hilton Hotel Belgrade:geo:44.80403,20
 .466169
END:VEVENT
BEGIN:VTIMEZONE
TZID:Europe/Zurich
X-LIC-LOCATION:Europe/Zurich
BEGIN:DAYLIGHT
DTSTART:20200329T030000
TZOFFSETFROM:+0100
TZOFFSETTO:+0200
TZNAME:CEST
END:DAYLIGHT
END:VTIMEZONE
END:VCALENDAR