BEGIN:VCALENDAR
VERSION:2.0
PRODID:-//wp-events-plugin.com//7.2.2.1//EN
TZID:Europe/Zurich
X-WR-TIMEZONE:Europe/Zurich
BEGIN:VEVENT
UID:167@eso-stroke.org
DTSTART;TZID=Europe/Zurich;VALUE=DATE:20231216
DTEND;TZID=Europe/Zurich;VALUE=DATE:20231217
DTSTAMP:20231211T092050Z
URL:https://eso-stroke.org/events/22nd-belgian-stroke-council-internationa
 l-symposium/
SUMMARY:22nd Belgian Stroke Council International Symposium
DESCRIPTION:The Belgian Stroke Council is dedicated to the management of he
 morrhagic stroke. The afternoon session will be dedicated to BSC awards\, 
 Stroke research in Belgium\nand will end with the Belgian Stroke Council C
 hallenge\, a team quiz!\n\nEvent Website: https://www.belgianstrokecouncil
 .be/congress-en/
CATEGORIES:ESO-Endorsed
END:VEVENT
BEGIN:VTIMEZONE
TZID:Europe/Zurich
X-LIC-LOCATION:Europe/Zurich
BEGIN:STANDARD
DTSTART:20231029T020000
TZOFFSETFROM:+0200
TZOFFSETTO:+0100
TZNAME:CET
END:STANDARD
END:VTIMEZONE
END:VCALENDAR