BEGIN:VCALENDAR
VERSION:2.0
PRODID:-//wp-events-plugin.com//7.2.2.1//EN
TZID:Europe/Zurich
X-WR-TIMEZONE:Europe/Zurich
BEGIN:VEVENT
UID:116@eso-stroke.org
DTSTART;TZID=Europe/Zurich;VALUE=DATE:20221126
DTEND;TZID=Europe/Zurich;VALUE=DATE:20221127
DTSTAMP:20221012T132855Z
URL:https://eso-stroke.org/events/21st-belgian-stroke-council-internationa
 l-symposium/
SUMMARY:21st Belgian Stroke Council International Symposium
DESCRIPTION:The 21th International Symposium of the Belgian Stroke Council 
 is dedicated to acute stroke management and to diagnosis and management of
  uncommon causes of stroke.\n\nTarget Group:\nVascular neurologists\, Neur
 ologists\, Fellows in neurology\, General practitioners\, cardiologists\, 
 Paramedics and nurses in stroke care\n\nSymposium Website: https://belgian
 strokecouncil.be/congress-en/
CATEGORIES:ESO-Endorsed
LOCATION:Provinciehuis Leuven\, Belgium\, Provinciehuis Leuven\, Leuven\, B
 elgium
X-APPLE-STRUCTURED-LOCATION;VALUE=URI;X-ADDRESS=Provinciehuis Leuven\, Leuv
 en\, Belgium;X-APPLE-RADIUS=100;X-TITLE=Provinciehuis Leuven\, Belgium:geo
 :0,0
END:VEVENT
BEGIN:VTIMEZONE
TZID:Europe/Zurich
X-LIC-LOCATION:Europe/Zurich
BEGIN:STANDARD
DTSTART:20221030T020000
TZOFFSETFROM:+0200
TZOFFSETTO:+0100
TZNAME:CET
END:STANDARD
END:VTIMEZONE
END:VCALENDAR