BEGIN:VCALENDAR
VERSION:2.0
PRODID:-//wp-events-plugin.com//7.2.2.1//EN
TZID:Europe/Zurich
X-WR-TIMEZONE:Europe/Zurich
BEGIN:VEVENT
UID:296@eso-stroke.org
DTSTART;TZID=Europe/Zurich;VALUE=DATE:20261209
DTEND;TZID=Europe/Zurich;VALUE=DATE:20261213
DTSTAMP:20260422T150125Z
URL:https://eso-stroke.org/events/20th-european-headache-congress-ehc26/
SUMMARY:20th European Headache Congress (EHC26)
DESCRIPTION:Welcome to the vibrant city of Berlin for a special edition of 
 the European Headache Congress (EHC26). In 2026\, the EHC proudly celebrat
 es its 20th anniversary\, and we are delighted to mark this important mile
 stone together with YOU. EHC26 will honour the spirit and achievements of 
 previous congresses of the European Headache Federation\, while offering i
 ts own distinctive and forward-looking perspective.\n\n“Walls Come Down
 ” is the guiding theme of this year’s congress\, reflecting both Berli
 n’s remarkable history and our shared commitment to breaking barriers in
  headache research and clinical practice. The congress will open with grou
 ndbreaking and clinically meaningful research in a secondary headache diso
 rder\, setting the stage for a dynamic exchange of ideas across basic scie
 nce and clinical research – enriched by real-world data and your own val
 uable clinical expertise.\n\nEvent details at a glance:\n\n 	Name of Event
 : 20th European Headache Congress (EHC26)\n 	Venue: hub27 Berlin - Jaffés
 traße 2 - 14055 Berlin\, Germany\n 	Date: 9 –12 December 2026\n 	Websit
 e: headache-congress.org\n
ATTACH;FMTTYPE=image/jpeg:https://eso-stroke.org/wp-content/uploads/EHC-20
 26_Webbanner-2500x625-1.jpg
CATEGORIES:Non-ESO
END:VEVENT
BEGIN:VTIMEZONE
TZID:Europe/Zurich
X-LIC-LOCATION:Europe/Zurich
BEGIN:STANDARD
DTSTART:20261025T020000
TZOFFSETFROM:+0200
TZOFFSETTO:+0100
TZNAME:CET
END:STANDARD
END:VTIMEZONE
END:VCALENDAR