BEGIN:VCALENDAR
VERSION:2.0
PRODID:-//wp-events-plugin.com//7.2.2.1//EN
TZID:Europe/Zurich
X-WR-TIMEZONE:Europe/Zurich
BEGIN:VEVENT
UID:22@eso-stroke.org
DTSTART;TZID=Europe/Amsterdam;VALUE=DATE:20220311
DTEND;TZID=Europe/Amsterdam;VALUE=DATE:20220312
DTSTAMP:20220127T100438Z
URL:https://eso-stroke.org/events/1st-european-life-after-stroke-forum/
SUMMARY:1st European Life After Stroke Forum
DESCRIPTION:\n\n\nThe Stroke Alliance for Europe has launched the European 
 Life After Stroke series of free events for 2022. The first event on Frida
 y 11 March 2022 (10.00-16.30 CET) includes two plenary sessions covering t
 he value of self-management and communications after stroke.  \n\nThe fi
 rst will share new ways of thinking about and building the evidence base o
 n self-management. Drawing on examples from research and clinical practice
 \, it will inspire participants to consider the potential of self-manageme
 nt support to deliver outcomes that matter most to people living with stro
 ke and help more people post stroke feel supported\, engaged and confident
  to self-manage.\n\nThe second plenary will focus on overcoming communicat
 ion barriers which can be a challenge for people with stroke\, who will sh
 are their experiences of and show that even without aphasia\, communicatio
 n failures are common and can result in confusion and distress.\n\nThere w
 ill be a mix of presentations from eminent speakers and contributions from
  stroke survivors.\n\nFind out more at https://www.elasf.org\n\nor registe
 r at https://bit.ly/33vv8lG \n\n\n
CATEGORIES:ESO-Endorsed
END:VEVENT
BEGIN:VTIMEZONE
TZID:Europe/Amsterdam
X-LIC-LOCATION:Europe/Amsterdam
BEGIN:STANDARD
DTSTART:20211031T020000
TZOFFSETFROM:+0200
TZOFFSETTO:+0100
TZNAME:CET
END:STANDARD
END:VTIMEZONE
END:VCALENDAR