BEGIN:VCALENDAR
VERSION:2.0
PRODID:-//wp-events-plugin.com//7.2.2.1//EN
TZID:Europe/Zurich
X-WR-TIMEZONE:Europe/Zurich
BEGIN:VEVENT
UID:41@eso-stroke.org
DTSTART;TZID=Europe/Zurich:20201205T090000
DTEND;TZID=Europe/Zurich:20201205T120000
DTSTAMP:20201021T063014Z
URL:https://eso-stroke.org/events/19th-belgian-stroke-council-internationa
 l-symposium/
SUMMARY:19th Belgian Stroke Council International Symposium
DESCRIPTION:Event Description: Brain-Heart axis\n\n(AF detection\, NOAC sel
 ection\, LAA closure\, Patent foramen ovale closure\, management of blood-
 pressure)\n\nRegistration: http://belgianstrokecouncil.be/internationalsym
 posium/\n\nTargeted Participants: Medical: Vascular neurologists\, Neurolo
 gists\, Fellows in neurology\, General practitioners\, cardiologists\, Par
 amedics and nurses in stroke care
CATEGORIES:ESO-Endorsed
END:VEVENT
BEGIN:VTIMEZONE
TZID:Europe/Zurich
X-LIC-LOCATION:Europe/Zurich
BEGIN:STANDARD
DTSTART:20201025T020000
TZOFFSETFROM:+0200
TZOFFSETTO:+0100
TZNAME:CET
END:STANDARD
END:VTIMEZONE
END:VCALENDAR