BEGIN:VCALENDAR
VERSION:2.0
PRODID:-//wp-events-plugin.com//7.2.2.1//EN
TZID:Europe/Zurich
X-WR-TIMEZONE:Europe/Zurich
BEGIN:VEVENT
UID:261@eso-stroke.org
DTSTART;TZID=Europe/Zurich:20260127T000000
DTEND;TZID=Europe/Zurich:20260130T000000
DTSTAMP:20250925T160922Z
URL:https://eso-stroke.org/events/13th-eso-esmint-esnr-stroke-winter-schoo
 l/
SUMMARY:13th ESO-ESMINT-ESNR Stroke Winter School
DESCRIPTION:The 13th ESO-ESMINT-ESNR Stroke Winter School will continue t
 he tradition of uniting young stroke physicians and interventional neurora
 diologists to promote interdisciplinary collaboration in the management of
  acute ischaemic stroke. As diagnostic and therapeutic tools evolve\, stro
 ke care is becoming increasingly complex – requiring fast\, well-coordin
 ated decisions grounded in both clinical insight and advanced imaging. Thi
 s course will provide a unique educational platform to meet these demands.
 \n\nThe upcoming edition will feature a carefully curated mix of expert-le
 d lectures\, interactive tutorials\, and hands-on workshops. Participants 
 will train in small groups\, developing essential technical skills such as
  endovascular techniques. Tutorials will focus on key topics including adv
 anced imaging\, thrombectomy\, complication management\, case discussions 
 – including morbidity and mortality sessions. This format will foster a 
 constructive learning environment that encourages open dialogue and shared
  experiences.\n\nIn addition to covering core stroke topics like thromboly
 sis and thrombectomy\, the curriculum will explore emerging areas such as 
 cerebral venous thrombosis\, intracranial hemorrhage\, and strategies for 
 managing TIAs and minor strokes.\n\n&nbsp\;\n\nRegistration here.
ATTACH;FMTTYPE=image/jpeg:https://eso-stroke.org/wp-content/uploads/G1hCWX
 qXQAAUDp1.png
CATEGORIES:ESO-Endorsed
END:VEVENT
BEGIN:VTIMEZONE
TZID:Europe/Zurich
X-LIC-LOCATION:Europe/Zurich
BEGIN:STANDARD
DTSTART:20251026T020000
TZOFFSETFROM:+0200
TZOFFSETTO:+0100
TZNAME:CET
END:STANDARD
END:VTIMEZONE
END:VCALENDAR